BEGIN:VCALENDAR
VERSION:2.0
PRODID:-//HOT 98.1 WHZT-FM  - ECPv5.6.0//NONSGML v1.0//EN
CALSCALE:GREGORIAN
METHOD:PUBLISH
X-WR-CALNAME:HOT 98.1 WHZT-FM 
X-ORIGINAL-URL:https://www.hot981.com
X-WR-CALDESC:Events for HOT 98.1 WHZT-FM 
BEGIN:VTIMEZONE
TZID:America/New_York
BEGIN:DAYLIGHT
TZOFFSETFROM:-0500
TZOFFSETTO:-0400
TZNAME:EDT
DTSTART:20260308T070000
END:DAYLIGHT
BEGIN:STANDARD
TZOFFSETFROM:-0400
TZOFFSETTO:-0500
TZNAME:EST
DTSTART:20261101T060000
END:STANDARD
END:VTIMEZONE
BEGIN:VEVENT
DTSTART;TZID=America/New_York:20260429T190000
DTEND;TZID=America/New_York:20260429T230000
DTSTAMP:20260422T074549
CREATED:20260108T130001Z
LAST-MODIFIED:20260112T202523Z
UID:84953-1777489200-1777503600@www.hot981.com
SUMMARY:Bruno Mars: The Romantic Tour
DESCRIPTION:Bruno Mars – The Romantic Tour with Anderson .Paak as DJ PEE.WEE and Leon Thomas \nBank of America Stadium – Charlotte\, NC \nWednesday\, April 29\, 2026
URL:https://www.hot981.com/event/bruno-mars-the-romantic-tour/
LOCATION:Bank of America Stadium\, 800 S Mint St\, Charlotte\, NC\, 28202\, United States
CATEGORIES:Event
ATTACH;FMTTYPE=image/jpeg:https://dehayf5mhw1h7.cloudfront.net/wp-content/uploads/sites/1841/2026/01/08130001/static_social-x_800x419_brunomars_2026_regional_bankofamericastadiumcharlotte_0429.jpg
END:VEVENT
BEGIN:VEVENT
DTSTART;TZID=America/New_York:20260517T193000
DTEND;TZID=America/New_York:20260517T220000
DTSTAMP:20260422T074549
CREATED:20260210T050052Z
LAST-MODIFIED:20260216T050103Z
UID:85381-1779046200-1779055200@www.hot981.com
SUMMARY:Don Toliver - Octane Tour
DESCRIPTION:Don Toliver – Octane Tour \nWith special guests SahBabii & SoFaygo \nColonial Life Arena Columbia on 5/17
URL:https://www.hot981.com/event/enter-to-win-a-pair-of-tickets-to-don-tolivers-octane-tour-on-may-17-2026-at-colonial-life-arena/
LOCATION:Colonial Life Arena\, 801 Lincoln St\, Columbia\, SC\, 29208\, United States
CATEGORIES:Event
ATTACH;FMTTYPE=image/jpeg:https://dehayf5mhw1h7.cloudfront.net/wp-content/uploads/sites/1841/2026/02/10153210/static_social-x_800x419_dontoliver_2026_regional_coloniallifearenacolumbia_0517.jpg
GEO:33.9947771;-81.0373006
X-APPLE-STRUCTURED-LOCATION;VALUE=URI;X-ADDRESS=Colonial Life Arena 801 Lincoln St Columbia SC 29208 United States;X-APPLE-RADIUS=500;X-TITLE=801 Lincoln St:geo:-81.0373006,33.9947771
END:VEVENT
BEGIN:VEVENT
DTSTART;TZID=America/New_York:20260520T200000
DTEND;TZID=America/New_York:20260520T233000
DTSTAMP:20260422T074549
CREATED:20260115T154222Z
LAST-MODIFIED:20260324T184406Z
UID:85071-1779307200-1779319800@www.hot981.com
SUMMARY:Pitbull 'I'm Back' Tour with Lil Jon
DESCRIPTION:Pitbull – I’m Back \nWith special guest Lil Jon \nTruliant Amphitheater Charlotte on 5/20
URL:https://www.hot981.com/event/pitbull-im-back-tour-with-lil-jon/
LOCATION:Truliant Amphitheater\, 707 Pavilion Blvd\, Charlotte\, NC\, 28262\, United States
CATEGORIES:Event
ATTACH;FMTTYPE=image/jpeg:https://dehayf5mhw1h7.cloudfront.net/wp-content/uploads/sites/1841/2026/01/15104205/static_social-x_800x419_pitbull_2026_regional_truliantamphitheater_0520.jpg
END:VEVENT
BEGIN:VEVENT
DTSTART;TZID=America/New_York:20260612T190000
DTEND;TZID=America/New_York:20260612T223000
DTSTAMP:20260422T074549
CREATED:20260120T140835Z
LAST-MODIFIED:20260120T140835Z
UID:85127-1781290800-1781303400@www.hot981.com
SUMMARY:A$AP Rocky - Don't Be Dumb World Tour
DESCRIPTION:A$AP Rocky: Don’t Be Dumb World Tour \nSpectrum Center Charlotte on Friday 6/12
URL:https://www.hot981.com/event/aap-rocky-dont-be-dumb-world-tour/
LOCATION:Spectrum Center\, 333 E Trade St\, Charlotte\, NC\, 28202\, United States
CATEGORIES:Event
ATTACH;FMTTYPE=image/jpeg:https://dehayf5mhw1h7.cloudfront.net/wp-content/uploads/sites/1841/2026/01/20090817/static_social-x_800x419_asaprocky_2026_regional_spectrumcentercharlotte_0612-1.jpg
GEO:35.2251855;-80.8393358
X-APPLE-STRUCTURED-LOCATION;VALUE=URI;X-ADDRESS=Spectrum Center 333 E Trade St Charlotte NC 28202 United States;X-APPLE-RADIUS=500;X-TITLE=333 E Trade St:geo:-80.8393358,35.2251855
END:VEVENT
BEGIN:VEVENT
DTSTART;TZID=America/New_York:20260717T190000
DTEND;TZID=America/New_York:20260717T223000
DTSTAMP:20260422T074549
CREATED:20260414T160008Z
LAST-MODIFIED:20260414T160004Z
UID:86152-1784314800-1784327400@www.hot981.com
SUMMARY:The R&B Tour starring Usher Raymond & Chris Brown
DESCRIPTION:The R&B Tour with Usher Raymond + Chris Brown\nBank of America Stadium Charlotte on Friday 7/17
URL:https://www.hot981.com/event/the-rb-tour-starring-usher-raymond-chris-brown/
LOCATION:Bank of America Stadium\, 800 S Mint St\, Charlotte\, NC\, 28202\, United States
CATEGORIES:Event
ATTACH;FMTTYPE=image/jpeg:https://dehayf5mhw1h7.cloudfront.net/wp-content/uploads/sites/1841/2026/04/14110800/static_social-x_800x419_therandbtour_2026_regional_bankofamericastadiumcharlotte_0717.jpg
END:VEVENT
BEGIN:VEVENT
DTSTART;TZID=America/New_York:20260924T200000
DTEND;TZID=America/New_York:20260924T220000
DTSTAMP:20260422T074549
CREATED:20260325T182429Z
LAST-MODIFIED:20260325T182429Z
UID:85905-1790280000-1790287200@www.hot981.com
SUMMARY:Lil Wayne - 20+ Years of Carter Classics
DESCRIPTION:Lil Wayne – 20+ Years of Carter Classics \nWith special guest 2 Chainz \nBon Secours Wellness Arena Greenville on 9/24
URL:https://www.hot981.com/event/lil-wayne-20-years-of-carter-classics/
LOCATION:Bon Secours Wellness Arena\, 650 Academy Street\, Greenville\, 29601\, United States
CATEGORIES:Event
ATTACH;FMTTYPE=image/jpeg:https://dehayf5mhw1h7.cloudfront.net/wp-content/uploads/sites/1841/2026/03/25142315/static_social-x_800x419_lilwayne_2026_regional_bonsecourswellnessarenagreenville_0924.jpg
END:VEVENT
BEGIN:VEVENT
DTSTART;TZID=America/New_York:20261118T193000
DTEND;TZID=America/New_York:20261118T230000
DTSTAMP:20260422T074549
CREATED:20250929T140548Z
LAST-MODIFIED:20260219T005154Z
UID:83765-1795030200-1795042800@www.hot981.com
SUMMARY:Doja Cat - Tour Ma Vie World Tour
DESCRIPTION:
URL:https://www.hot981.com/event/doja-cat-tour-ma-vie-world-tour/
LOCATION:Spectrum Center\, 333 E Trade St\, Charlotte\, NC\, 28202\, United States
CATEGORIES:Event
ATTACH;FMTTYPE=image/jpeg:https://dehayf5mhw1h7.cloudfront.net/wp-content/uploads/sites/1841/2025/09/29140548/static_social-x_800x419_dojacat_2026_regional_spectrumcentercharlotte_1118.jpg
GEO:35.2251855;-80.8393358
X-APPLE-STRUCTURED-LOCATION;VALUE=URI;X-ADDRESS=Spectrum Center 333 E Trade St Charlotte NC 28202 United States;X-APPLE-RADIUS=500;X-TITLE=333 E Trade St:geo:-80.8393358,35.2251855
END:VEVENT
END:VCALENDAR